BEGIN:VCALENDAR
VERSION:2.0
PRODID:-//Semana Santa Segovia - ECPv6.3.5//NONSGML v1.0//EN
CALSCALE:GREGORIAN
METHOD:PUBLISH
X-ORIGINAL-URL:https://www.semanasantasegovia.com
X-WR-CALDESC:Eventos para Semana Santa Segovia
REFRESH-INTERVAL;VALUE=DURATION:PT1H
X-Robots-Tag:noindex
X-PUBLISHED-TTL:PT1H
BEGIN:VTIMEZONE
TZID:Europe/Madrid
BEGIN:DAYLIGHT
TZOFFSETFROM:+0100
TZOFFSETTO:+0200
TZNAME:CEST
DTSTART:20250330T010000
END:DAYLIGHT
BEGIN:STANDARD
TZOFFSETFROM:+0200
TZOFFSETTO:+0100
TZNAME:CET
DTSTART:20251026T010000
END:STANDARD
END:VTIMEZONE
BEGIN:VEVENT
DTSTART;VALUE=DATE:20250222
DTEND;VALUE=DATE:20250223
DTSTAMP:20260424T180250
CREATED:20250218T104803Z
LAST-MODIFIED:20250218T104803Z
UID:4500-1740182400-1740268799@www.semanasantasegovia.com
SUMMARY:Hermanamiento de las Semana Santa de Segovia y Benavente
DESCRIPTION:La Junta Pro Semana Santa de Benavente y la Junta de Cofradías de Segovia hermanan sus Semanas Santas\, en un acto que tienen previsto el próximo sábado en la iglesia de San Juan del Mercado de Benavente a las 19:30 horas.
URL:https://www.semanasantasegovia.com/event/hermanamiento-de-las-semana-santa-de-segovia-y-benavente/
CATEGORIES:actos culturales
ATTACH;FMTTYPE=image/jpeg:https://www.semanasantasegovia.com/wp-content/uploads/2025/02/20250222-Hermanamiento-Semana-Santa-Segovia-y-Benavente.jpg
END:VEVENT
END:VCALENDAR