BEGIN:VCALENDAR
VERSION:2.0
PRODID:-//Semana Santa Segovia - ECPv6.3.5//NONSGML v1.0//EN
CALSCALE:GREGORIAN
METHOD:PUBLISH
X-WR-CALNAME:Semana Santa Segovia
X-ORIGINAL-URL:https://www.semanasantasegovia.com
X-WR-CALDESC:Eventos para Semana Santa Segovia
REFRESH-INTERVAL;VALUE=DURATION:PT1H
X-Robots-Tag:noindex
X-PUBLISHED-TTL:PT1H
BEGIN:VTIMEZONE
TZID:Europe/Madrid
BEGIN:DAYLIGHT
TZOFFSETFROM:+0100
TZOFFSETTO:+0200
TZNAME:CEST
DTSTART:20240331T010000
END:DAYLIGHT
BEGIN:STANDARD
TZOFFSETFROM:+0200
TZOFFSETTO:+0100
TZNAME:CET
DTSTART:20241027T010000
END:STANDARD
END:VTIMEZONE
BEGIN:VEVENT
DTSTART;TZID=Europe/Madrid:20240113T110000
DTEND;TZID=Europe/Madrid:20240113T113000
DTSTAMP:20260425T122017
CREATED:20240111T124350Z
LAST-MODIFIED:20240111T124350Z
UID:3987-1705143600-1705145400@www.semanasantasegovia.com
SUMMARY:Presentación del cartel anunciador y vídeo promocional de la Semana Santa 2024
DESCRIPTION:El calendario de la Semana Santa de Segovia se pone en marcha el próximo sábado\, 13 de enero de 2024\, con la presentación del cartel anunciador y vídeo promocional 2024.\n\n\n\n\n\nLa presentación tendrá lugar a las 11.00 de la mañana\, en la sede de la Junta de Cofradías\, Hermandades y Feligresías (calle Desamparados\, 5) con la intervención del presidente\, Víctor García Rubio\, acompañado de representantes de las cofradías.\n\n\n\n\n\nTe invitamos a que asistas y descubras en directo el cartel y vídeo promocional.
URL:https://www.semanasantasegovia.com/event/presentacion-del-cartel-anunciador-y-video-promocional-de-la-semana-santa-2024/
LOCATION:Sede Junta de Cofradías\, Calle Desamparados\, 5\, Segovia\, Segovia\, España
CATEGORIES:actos culturales,destacado
ATTACH;FMTTYPE=image/jpeg:https://www.semanasantasegovia.com/wp-content/uploads/2024/01/SemanaSantaSegovia-presentacion_cartel_video_2024.jpeg
END:VEVENT
END:VCALENDAR