BEGIN:VCALENDAR
VERSION:2.0
PRODID:-//Semana Santa Segovia - ECPv6.3.5//NONSGML v1.0//EN
CALSCALE:GREGORIAN
METHOD:PUBLISH
X-ORIGINAL-URL:https://www.semanasantasegovia.com
X-WR-CALDESC:Eventos para Semana Santa Segovia
REFRESH-INTERVAL;VALUE=DURATION:PT1H
X-Robots-Tag:noindex
X-PUBLISHED-TTL:PT1H
BEGIN:VTIMEZONE
TZID:Europe/Madrid
BEGIN:DAYLIGHT
TZOFFSETFROM:+0100
TZOFFSETTO:+0200
TZNAME:CEST
DTSTART:20250330T010000
END:DAYLIGHT
BEGIN:STANDARD
TZOFFSETFROM:+0200
TZOFFSETTO:+0100
TZNAME:CET
DTSTART:20251026T010000
END:STANDARD
END:VTIMEZONE
BEGIN:VEVENT
DTSTART;TZID=Europe/Madrid:20250313T120000
DTEND;TZID=Europe/Madrid:20250420T130000
DTSTAMP:20260419T152828
CREATED:20250314T183811Z
LAST-MODIFIED:20250314T184753Z
UID:4544-1741867200-1745154000@www.semanasantasegovia.com
SUMMARY:Exposición la Catedral y la Semana Santa
DESCRIPTION:Esta exposición recoge cincuenta y cinco imágenes recientes de celebraciones litúrgicas y procesiones de Semana Santa\, con la Catedral siempre como fondo\, desde el Domingo de Ramos al Domingo de Resurrección. De igual modo\, ahonda en la relación de la Iglesia Madre de la Diócesis con el conjunto de hermandades y cofradías que acoge en estos días de tránsito de la tristeza al gozo como comunidad de creyentes. Una muestra con la que se pretende trasladar la historia de la Catedral\, templo vivo en la fe de muchos segovianos.  \nLa colaboración con la Junta de Cofradías pone de relieve el espíritu de celebración del V Centenario como una invitación del Cabildo a estrechar lazos con instituciones públicas\, privadas y otras con el objetivo de involucrar al conjunto de la sociedad en este importante aniversario. \nHorario de exposición: De 9:30 a 18:30 horas \n 
URL:https://www.semanasantasegovia.com/event/inauguracion-de-la-exposicion-la-catedral-y-la-semana-santa/
CATEGORIES:actos culturales
ATTACH;FMTTYPE=image/jpeg:https://www.semanasantasegovia.com/wp-content/uploads/2025/03/Exposicion_Catedral_SemanaSanta_Segovia-destacada.jpg
END:VEVENT
BEGIN:VEVENT
DTSTART;TZID=Europe/Madrid:20250323T130000
DTEND;TZID=Europe/Madrid:20250323T170000
DTSTAMP:20260419T152828
CREATED:20240304T160319Z
LAST-MODIFIED:20250325T091842Z
UID:4163-1742734800-1742749200@www.semanasantasegovia.com
SUMMARY:III Jornada del Costal
DESCRIPTION:• III Jornada del Costal: A las 13:00 h. ensayo solidario: “Échanos kilos sobre el paso”. Donación de alimentos no perecederos con el acompañamiento de la Banda de CC y TT Ntra. Sra. de la Piedad. A las 15:15\, Gran Comida en el patio de la Iglesia de San José Obrero. Organiza la Cofradía de Ntra. Sra. de la Piedad\, Costaleros de Jesús Cautivo.
URL:https://www.semanasantasegovia.com/event/ii-jornada-del-costal/
CATEGORIES:actos culturales
END:VEVENT
BEGIN:VEVENT
DTSTART;TZID=Europe/Madrid:20250323T173000
DTEND;TZID=Europe/Madrid:20250323T200000
DTSTAMP:20260419T152828
CREATED:20250318T162920Z
LAST-MODIFIED:20250318T162920Z
UID:4590-1742751000-1742760000@www.semanasantasegovia.com
SUMMARY:Hermanamiento con la Semana Santa de Guadalajara
DESCRIPTION:Acto de hermanamiento de la Semana Santa de Segovia y la de Guadalajara y presentación de la Semana Santa de Guadalajara.\n\n\n El horario de la jornada es:\n\n\n17:30 Pasacalles de la Banda de los Gascones desde la sede de la Junta de Cofradías hasta el Acueducto.\n\n\n18:00 h. Presentación de la Semana Santa de Guadalajara en la sala Caja Segovia a cargo de D. Antonio Ramos Nicolás.
URL:https://www.semanasantasegovia.com/event/hermanamiento-con-la-semana-santa-de-guadalajara/
CATEGORIES:actos culturales
ATTACH;FMTTYPE=image/jpeg:https://www.semanasantasegovia.com/wp-content/uploads/2025/03/Hermanamiento-Semana-Santa-Segovia-y-Guadalajara-destc.jpg
END:VEVENT
END:VCALENDAR