BEGIN:VCALENDAR
VERSION:2.0
PRODID:-//Semana Santa Segovia - ECPv6.3.5//NONSGML v1.0//EN
CALSCALE:GREGORIAN
METHOD:PUBLISH
X-ORIGINAL-URL:https://www.semanasantasegovia.com
X-WR-CALDESC:Eventos para Semana Santa Segovia
REFRESH-INTERVAL;VALUE=DURATION:PT1H
X-Robots-Tag:noindex
X-PUBLISHED-TTL:PT1H
BEGIN:VTIMEZONE
TZID:Europe/Madrid
BEGIN:DAYLIGHT
TZOFFSETFROM:+0100
TZOFFSETTO:+0200
TZNAME:CEST
DTSTART:20250330T010000
END:DAYLIGHT
BEGIN:STANDARD
TZOFFSETFROM:+0200
TZOFFSETTO:+0100
TZNAME:CET
DTSTART:20251026T010000
END:STANDARD
END:VTIMEZONE
BEGIN:VEVENT
DTSTART;VALUE=DATE:20250411
DTEND;VALUE=DATE:20250412
DTSTAMP:20260425T192935
CREATED:20240311T114031Z
LAST-MODIFIED:20250331T143829Z
UID:4227-1744329600-1744415999@www.semanasantasegovia.com
SUMMARY:VIERNES DE DOLORES
DESCRIPTION:
URL:https://www.semanasantasegovia.com/event/viernes-de-dolores/
CATEGORIES:actos culturales,actos litúrgicos,destacado,Via Crucis y Procesiones
ATTACH;FMTTYPE=image/png:https://www.semanasantasegovia.com/wp-content/uploads/2021/03/unnamed.png
END:VEVENT
BEGIN:VEVENT
DTSTART;TZID=Europe/Madrid:20250411T200000
DTEND;TZID=Europe/Madrid:20250411T233000
DTSTAMP:20260425T192935
CREATED:20240319T113745Z
LAST-MODIFIED:20250331T143233Z
UID:4323-1744401600-1744414200@www.semanasantasegovia.com
SUMMARY:Vía Crucis parroquia de El Salvador
DESCRIPTION: Vía Crucis parroquia de El Salvador\n\n\nOrganiza: Real Cofradía de la Santa y Venerable Esclavitud y Feligresía de la Parroquia de El Salvador\n\nHorario: 20:00 h. \nImágenes: Santo Cristo de los Gascones (Anónimo\, s. XI-XII) y Soledad Dolorosa (Virgen de los Sastres) \nRecorrido: Iglesia de San Justo y Pastor\, por las calles del barrio\, regresando al templo donde se cantará el Himno al Cristo de los Gascones.  \nAcompañamiento: Cristo de los Gascones portado en sus andas originales\, banda de cornetas y tambores titular de la Cofradía.
URL:https://www.semanasantasegovia.com/event/via-crucis-parroquia-de-el-salvador/
CATEGORIES:Via Crucis y Procesiones
END:VEVENT
BEGIN:VEVENT
DTSTART;TZID=Europe/Madrid:20250411T203000
DTEND;TZID=Europe/Madrid:20250411T213000
DTSTAMP:20260425T192935
CREATED:20240319T110442Z
LAST-MODIFIED:20250331T143044Z
UID:4285-1744403400-1744407000@www.semanasantasegovia.com
SUMMARY:Vía Crucis escenificado de la Pasión
DESCRIPTION:Vía Crucis escenificado de la Pasión\n\nOrganiza: Cofradía de Ntra. Sra. de la Piedad \nHorario: 20:30 h. \nRecorrido: Inicio y final en la Parroquia. Plaza de San José (última cena)\, Parque Infantil de Tráfico (oración en el huerto)\, C/ Paris (Jesús ante Pilatos)\, C/ Dublín (primera caída)\, C/ Los Pinares Llanos (la Verónica y segunda caída)\, Ctra. Valdevilla (Tercera caída y encuentro con la Madre)\, Parque de la Crucifixión (crucifixión y descendimiento) y recorrido inverso hasta la Iglesia de San José (La Piedad y la resurrección).  \nAcompañamiento: Banda de CC y TT de Ntra. Sra. de La Piedad.
URL:https://www.semanasantasegovia.com/event/via-crucis-escenificado-de-la-pasion/
CATEGORIES:Via Crucis y Procesiones
END:VEVENT
BEGIN:VEVENT
DTSTART;TZID=Europe/Madrid:20250411T203000
DTEND;TZID=Europe/Madrid:20250411T223000
DTSTAMP:20260425T192935
CREATED:20240311T114232Z
LAST-MODIFIED:20250331T142727Z
UID:4229-1744403400-1744410600@www.semanasantasegovia.com
SUMMARY:Procesión de las Tres Caídas
DESCRIPTION: Procesión de las Tres Caídas\,\n\nOrganiza: Cofradía del Santo Cristo de San Marcos  \nHorario: 20:30 h. (Previamente Eucaristía) \nImagen: Santo Cristo de San Marcos. (Anónimo\, s. XVI) \nRecorrido: Inicio y final en la Parroquia de San Marcos\, recorriendo la Alameda de La Fuencisla. Las Tres Caídas se rezarán ante la Parroquia\, ante el Convento de PP. Carmelitas y en el Santuario de Ntra. Sra. de La Fuencisla. Al finalizar tendrá lugar la veneración de la Imagen.
URL:https://www.semanasantasegovia.com/event/procesion-de-las-tres-caidas/
CATEGORIES:Via Crucis y Procesiones
END:VEVENT
BEGIN:VEVENT
DTSTART;TZID=Europe/Madrid:20250411T203000
DTEND;TZID=Europe/Madrid:20250411T223000
DTSTAMP:20260425T192935
CREATED:20240319T110242Z
LAST-MODIFIED:20250331T142928Z
UID:4283-1744403400-1744410600@www.semanasantasegovia.com
SUMMARY:Procesión con Ntra. Madre María Santísima de las Angustias y rezo del Vía Matris
DESCRIPTION:Procesión con Ntra. Madre María Santísima de las Angustias y rezo del Vía Matris\n\nOrganiza: Cofradía Penitencial Nuestro Señor Jesús con la Cruz a Cuestas y María Santísima de las Angustias\, de la Asociación de Exalumnos Maristas (A.D.E.Mar.) \nHorario: 20:30 h. tras acto de despedida de la Virgen por la Comunidad de Madres Clarisas en el Convento del Corpus Christi.  \nImagen: Virgen de las Angustias. (Escuela de Juan de Juni\, s. XVI) \nRecorrido: Estaciones del Via Matris en el Convento de Corpus Christi\, Iglesia de San Miguel\, Santa Iglesia Catedral\, antiguo Colegio de las Hijas de Jesús\, Arco del Socorro\, antiguo Convento de Sancti Spiritu y Colegio Marista\, concluyendo a las 23.30 h. \nAcompañamiento: Trono portado a banzos\, banda titular de la Cofradía.
URL:https://www.semanasantasegovia.com/event/procesion-con-ntra-madre-maria-santisima-de-las-angustias-y-rezo-del-via-matris/
CATEGORIES:Via Crucis y Procesiones
END:VEVENT
END:VCALENDAR