BEGIN:VCALENDAR
VERSION:2.0
PRODID:-//Semana Santa Segovia - ECPv6.3.5//NONSGML v1.0//EN
CALSCALE:GREGORIAN
METHOD:PUBLISH
X-ORIGINAL-URL:https://www.semanasantasegovia.com
X-WR-CALDESC:Eventos para Semana Santa Segovia
REFRESH-INTERVAL;VALUE=DURATION:PT1H
X-Robots-Tag:noindex
X-PUBLISHED-TTL:PT1H
BEGIN:VTIMEZONE
TZID:Europe/Madrid
BEGIN:DAYLIGHT
TZOFFSETFROM:+0100
TZOFFSETTO:+0200
TZNAME:CEST
DTSTART:20250330T010000
END:DAYLIGHT
BEGIN:STANDARD
TZOFFSETFROM:+0200
TZOFFSETTO:+0100
TZNAME:CET
DTSTART:20251026T010000
END:STANDARD
END:VTIMEZONE
BEGIN:VEVENT
DTSTART;TZID=Europe/Madrid:20250416T203000
DTEND;TZID=Europe/Madrid:20250416T220000
DTSTAMP:20260425T192929
CREATED:20240319T112222Z
LAST-MODIFIED:20250331T145134Z
UID:4303-1744835400-1744840800@www.semanasantasegovia.com
SUMMARY:Vía Crucis Penitencial\, con el Cristo de la Buena Muerte
DESCRIPTION:Vía Crucis Penitencial\, con el Cristo de la Buena Muerte (de autor anónimo\, s. XVII)\, en la huerta de los Padres Carmelitas\, a las 20:30 h.\, organizado por los Padres Carmelitas Descalzos y la Junta de Cofradías\, Hermandades y Feligresías de la Semana Santa de Segovia.\n\nCon el fin de facilitar y fomentar en los fieles el ejercicio del Vía Crucis\, las estaciones permanecen instaladas en la huerta durante todo el tiempo litúrgico de Cuaresma. Se deberá solicitar autorización en la portería para poder acceder al Vía Crucis instalado. \nAl finalizar el Vía Crucis de los PP Carmelitas\, se interpretará el “Silencio Del Tambor”\, organizado por la Cofradía del Santo Cristo de San Marcos acompañada por el resto de bandas de Segovia. Tendrá lugar en la explanada de San Marcos\, junto a la parroquia.
URL:https://www.semanasantasegovia.com/event/via-crucis-penitencial-con-el-cristo-de-la-buena-muerte-2/
CATEGORIES:destacado,Via Crucis y Procesiones
ATTACH;FMTTYPE=image/jpeg:https://www.semanasantasegovia.com/wp-content/uploads/2014/10/viacrucis2-644x362.jpg
END:VEVENT
BEGIN:VEVENT
DTSTART;TZID=Europe/Madrid:20250416T210000
DTEND;TZID=Europe/Madrid:20250416T210000
DTSTAMP:20260425T192929
CREATED:20240319T112506Z
LAST-MODIFIED:20250331T153817Z
UID:4307-1744837200-1744837200@www.semanasantasegovia.com
SUMMARY:Procesión de Nuestro Padre Jesús Cautivo
DESCRIPTION:Procesión de Nuestro Padre Jesús Cautivo\, \n\nOrganiza: Cofradía de Nuestra Señora de la Piedad. \nHorario: Salida a las 21:00 h.   \nImagen: Nuestro Padre Jesús Cautivo. (Juan Manuel Montaño\, 2015) \nRecorrido: Parroquia de San José (puerta trasera)\, Berlín\, Tomasa de la Iglesia\, Mónaco\, París\, Londres\, Estocolmo\, Atenas\, Berlín. \nAcompañamiento: Paso a costal\, banda de Ntra. Sra. de la Piedad.
URL:https://www.semanasantasegovia.com/event/procesion-de-nuestro-padre-jesus-cautivo/
CATEGORIES:Via Crucis y Procesiones
END:VEVENT
BEGIN:VEVENT
DTSTART;TZID=Europe/Madrid:20250416T220000
DTEND;TZID=Europe/Madrid:20250417T013000
DTSTAMP:20260425T192929
CREATED:20240319T112405Z
LAST-MODIFIED:20250331T145348Z
UID:4305-1744840800-1744853400@www.semanasantasegovia.com
SUMMARY:Santo Vía Crucis y Procesión con la Imagen del Santo Cristo de la Paciencia 
DESCRIPTION:Santo Vía Crucis y Procesión con la Imagen del Santo Cristo de la Paciencia \n\nOrganiza: Feligresía de San Andrés. \nHorario: Salida de la Iglesia de San Andrés a las 22:00 h.\, llegada sobre las 01:30 h. \nImagen: Cristo de la Paciencia. (Anónimo\, s. XVII) \nRecorrido: Recorrido por el barrio de San Andrés\, pasando por el Arco de la Claustra entrada en la Plaza de la Reina Victoria Eugenia y paso por el Alcázar para recorrer su elipse\, final del Vía Crucis en el arco del Socorro. Seguidamente procesión de regreso por escaleras de Judería Nueva.  \nAcompañamiento: Paso cargado a hombros\, Banda El Cirineo.
URL:https://www.semanasantasegovia.com/event/santo-via-crucis-y-procesion-con-la-imagen-del-santo-cristo-de-la-paciencia/
CATEGORIES:Via Crucis y Procesiones
END:VEVENT
END:VCALENDAR