BEGIN:VCALENDAR
VERSION:2.0
PRODID:-//Semana Santa Segovia - ECPv6.3.5//NONSGML v1.0//EN
CALSCALE:GREGORIAN
METHOD:PUBLISH
X-WR-CALNAME:Semana Santa Segovia
X-ORIGINAL-URL:https://www.semanasantasegovia.com
X-WR-CALDESC:Eventos para Semana Santa Segovia
REFRESH-INTERVAL;VALUE=DURATION:PT1H
X-Robots-Tag:noindex
X-PUBLISHED-TTL:PT1H
BEGIN:VTIMEZONE
TZID:Europe/Madrid
BEGIN:DAYLIGHT
TZOFFSETFROM:+0100
TZOFFSETTO:+0200
TZNAME:CEST
DTSTART:20250330T010000
END:DAYLIGHT
BEGIN:STANDARD
TZOFFSETFROM:+0200
TZOFFSETTO:+0100
TZNAME:CET
DTSTART:20251026T010000
END:STANDARD
END:VTIMEZONE
BEGIN:VEVENT
DTSTART;TZID=Europe/Madrid:20250416T220000
DTEND;TZID=Europe/Madrid:20250417T013000
DTSTAMP:20260425T192619
CREATED:20240319T112405Z
LAST-MODIFIED:20250331T145348Z
UID:4305-1744840800-1744853400@www.semanasantasegovia.com
SUMMARY:Santo Vía Crucis y Procesión con la Imagen del Santo Cristo de la Paciencia 
DESCRIPTION:Santo Vía Crucis y Procesión con la Imagen del Santo Cristo de la Paciencia \n\nOrganiza: Feligresía de San Andrés. \nHorario: Salida de la Iglesia de San Andrés a las 22:00 h.\, llegada sobre las 01:30 h. \nImagen: Cristo de la Paciencia. (Anónimo\, s. XVII) \nRecorrido: Recorrido por el barrio de San Andrés\, pasando por el Arco de la Claustra entrada en la Plaza de la Reina Victoria Eugenia y paso por el Alcázar para recorrer su elipse\, final del Vía Crucis en el arco del Socorro. Seguidamente procesión de regreso por escaleras de Judería Nueva.  \nAcompañamiento: Paso cargado a hombros\, Banda El Cirineo.
URL:https://www.semanasantasegovia.com/event/santo-via-crucis-y-procesion-con-la-imagen-del-santo-cristo-de-la-paciencia/
CATEGORIES:Via Crucis y Procesiones
END:VEVENT
BEGIN:VEVENT
DTSTART;VALUE=DATE:20250417
DTEND;VALUE=DATE:20250418
DTSTAMP:20260425T192619
CREATED:20240224T122304Z
LAST-MODIFIED:20250401T103617Z
UID:4124-1744848000-1744934399@www.semanasantasegovia.com
SUMMARY:JUEVES SANTO
DESCRIPTION:
URL:https://www.semanasantasegovia.com/event/jueves-santo/
CATEGORIES:actos culturales,actos litúrgicos,Via Crucis y Procesiones
ATTACH;FMTTYPE=image/png:https://www.semanasantasegovia.com/wp-content/uploads/2021/03/unnamed.png
END:VEVENT
BEGIN:VEVENT
DTSTART;TZID=Europe/Madrid:20250417T181500
DTEND;TZID=Europe/Madrid:20250417T211500
DTSTAMP:20260425T192619
CREATED:20240319T112555Z
LAST-MODIFIED:20250331T153921Z
UID:4309-1744913700-1744924500@www.semanasantasegovia.com
SUMMARY:Procesión del Paso La Flagelación del Señor 
DESCRIPTION:Procesión del Paso La Flagelación del Señor \n\nOrganiza: Cofradía de La Flagelación del Señor. \nHorario: Salida a las 18:15 h.\, llegada a las 21:15 h.  \nImagen: La Flagelación del Señor. (José Quixal\, 1907) \nRecorrido: Salida de la Iglesia de la Resurrección\, José Zorrilla\, Plaza Somorrostro\, Muerte y Vida\, San Francisco\, para incorporarse a la carrera oficial\, hasta la S.I. Catedral. \nAcompañamiento: banda de CC y TT. Titular de la Cofradía.
URL:https://www.semanasantasegovia.com/event/procesion-del-paso-la-flagelacion-del-senor/
CATEGORIES:Via Crucis y Procesiones
END:VEVENT
BEGIN:VEVENT
DTSTART;TZID=Europe/Madrid:20250417T184500
DTEND;TZID=Europe/Madrid:20250417T203000
DTSTAMP:20260425T192619
CREATED:20240319T112653Z
LAST-MODIFIED:20250401T093011Z
UID:4311-1744915500-1744921800@www.semanasantasegovia.com
SUMMARY:Procesión de Ntra. Sra. la Soledad al Pie de la Cruz y el Santísimo Cristo en su última Palabra
DESCRIPTION:Procesión de Ntra. Sra. la Soledad al Pie de la Cruz y el Santísimo Cristo en su última Palabra\, \n\nOrganiza: Cofradía de Ntra. Sra. la Soledad al Pie de la Cruz y el Santísimo Cristo en su última Palabra. \nImágenes: Ntra. Sra. la Soledad al Pie de la Cruz y el Santísimo Cristo en su última Palabra. (Aniceto Marinas\, 1930 y 1947 respectivamente) \nHorario: salida a las 18:45 h.\, llegada a las 20:30. \nRecorrido: Iglesia de San Millán\, calles Hermanos Barral\, Carretas\, Félix Gila\, Dr. Gila\, Carros\, Carretas\, Hermanos Barral\, Travesía Pelaires\, Pelaires\, Sto. Domingo de Silos\, Avenida del Acueducto\, para incorporarse a la carrera oficial hasta la S.I. Catedral.  \nAcompañamiento: banda de CC y TT. Titular de la Cofradía.
URL:https://www.semanasantasegovia.com/event/procesion-de-ntra-sra-la-soledad-al-pie-de-la-cruz-y-el-santisimo-cristo-en-su-ultima-palabra-2/
CATEGORIES:Via Crucis y Procesiones
END:VEVENT
BEGIN:VEVENT
DTSTART;TZID=Europe/Madrid:20250417T190000
DTEND;TZID=Europe/Madrid:20250417T214500
DTSTAMP:20260425T192619
CREATED:20240319T112856Z
LAST-MODIFIED:20250401T093313Z
UID:4315-1744916400-1744926300@www.semanasantasegovia.com
SUMMARY:Procesión de El Calvario\, La Magdalena al Pie de la Cruz y Ntra. Sra. de la Piedad 
DESCRIPTION:Procesión de El Calvario\, La Magdalena al Pie de la Cruz y Ntra. Sra. de la Piedad \n\nOrganiza: Cofradía de Nuestra Señora de la Piedad. \nHorario: Salida a las 19:00 h.\, llegada a las 21:45 h. \nImágenes: El Calvario (Escuela de Olot)\, La Magdalena al Pie de la Cruz (Sebastián Sanabra\, 1907) y Ntra. Sra. de la Piedad (José Quixal\, 1907).  \nRecorrido: Parroquia de San José Obrero\, Avda. Juan Carlos I\, Avenida de la Constitución\, Blanca de Silos\, Independencia\, Gobernador Fernández Jiménez\, Avda. del Acueducto\,  para incorporarse a la carrera oficial\, hasta la S.I. Catedral. \nAcompañamiento: banda de CC y TT. Titular de la Cofradía.
URL:https://www.semanasantasegovia.com/event/procesion-de-el-calvario-la-magdalena-al-pie-de-la-cruz-y-ntra-sra-de-la-piedad/
CATEGORIES:Via Crucis y Procesiones
END:VEVENT
BEGIN:VEVENT
DTSTART;TZID=Europe/Madrid:20250417T191500
DTEND;TZID=Europe/Madrid:20250417T211500
DTSTAMP:20260425T192619
CREATED:20240319T112748Z
LAST-MODIFIED:20250401T093148Z
UID:4313-1744917300-1744924500@www.semanasantasegovia.com
SUMMARY:Procesión de Ntra. Sra. de la Soledad Dolorosa
DESCRIPTION:Procesión de Ntra. Sra. de la Soledad Dolorosa\n\nOrganiza: Hermandad de Ntra. Sra. La Soledad Dolorosa\, Cofradía del Recogimiento. \nHorario: Salida a las 19:15\, llegada a las 21:15. \nImagen: Nuestra Señora de la Soledad Dolorosa. (Anónimo\, s. XVII-XVIII) \nRecorrido: Calle San Antón\, Pza. De Santa Eulalia (donde se realizará una breve oración)\, Buitrago\, Pza.de Somorrostro\, Muerte y Vida\, San Francisco\, Pza.de Azoguejo\, para incorporarse a la carrera oficial hasta la S.I. Catedral.  \nAcompañamiento: banda de CC y TT. Titular de la Hermandad y miembros de la Academia de Artillería
URL:https://www.semanasantasegovia.com/event/procesion-de-ntra-sra-de-la-soledad-dolorosa/
CATEGORIES:Via Crucis y Procesiones
END:VEVENT
BEGIN:VEVENT
DTSTART;TZID=Europe/Madrid:20250417T193000
DTEND;TZID=Europe/Madrid:20250417T230000
DTSTAMP:20260425T192619
CREATED:20240319T113143Z
LAST-MODIFIED:20250401T093506Z
UID:4317-1744918200-1744930800@www.semanasantasegovia.com
SUMMARY:Procesión del Santo Cristo del  Mercado
DESCRIPTION:Procesión del Santo Cristo del  Mercado\n\nOrganiza: Cofradía de La Esclavitud del Santo Cristo de la Cruz. \nHorario: Salida a las 19:30 h. llegada prevista en torno a las 23:00 h.  \nImagen: Santo Cristo de la Cruz (Cristo del Mercado). (Anónimo\, s. XVI) \nRecorrido: Plaza Cristo del Mercado\, José Zorrilla\, Plaza Somorrostro\, Muerte y Vida\, San Francisco\, Plaza del Azoguejo\, carrera oficial y S. I. Catedral. \nAcompañamiento: paso cargado a hombros\, banda\, escolta de miembros de la Comandancia de la Guardia Civil. Banda Santo Cristo del Mercado.
URL:https://www.semanasantasegovia.com/event/procesion-del-santo-cristo-del-mercado-2/
CATEGORIES:Via Crucis y Procesiones
END:VEVENT
BEGIN:VEVENT
DTSTART;TZID=Europe/Madrid:20250417T200000
DTEND;TZID=Europe/Madrid:20250417T223000
DTSTAMP:20260425T192619
CREATED:20240319T113501Z
LAST-MODIFIED:20250401T101200Z
UID:4321-1744920000-1744929000@www.semanasantasegovia.com
SUMMARY:Procesión Penitencial del Paso la Oración en el Huerto
DESCRIPTION:Procesión Penitencial del Paso la Oración en el Huerto\n\nOrganiza: Cofradía de La Oración en el Huerto. \nHorario: Salida a las 20:00 h\, llegada a las 22:30 h. \nImagen: La Oración en el Huerto. (José Rius\, 1907) \nRecorrido: Plaza de San Lorenzo\, Calle de San Lorenzo\, Las Nieves\, Avda. Vía Roma\, para incorporarse a la carrera oficial\, hasta la S.I. Catedral. \nAcompañamiento: Banda de Cornetas y Tambores “Félix Martín”\, titular de la Cofradía.
URL:https://www.semanasantasegovia.com/event/procesion-penitencial-del-paso-la-oracion-en-el-huerto/
CATEGORIES:Via Crucis y Procesiones
END:VEVENT
BEGIN:VEVENT
DTSTART;TZID=Europe/Madrid:20250417T203000
DTEND;TZID=Europe/Madrid:20250417T235900
DTSTAMP:20260425T192619
CREATED:20240319T113308Z
LAST-MODIFIED:20250401T100545Z
UID:4319-1744921800-1744934340@www.semanasantasegovia.com
SUMMARY:Procesión acompañando a los Pasos Jesús con la Cruz a cuestas y La Virgen de las Angustias
DESCRIPTION:Procesión acompañando a los Pasos Jesús con la Cruz a cuestas y La Virgen de las Angustias\n\nOrganiza: \nHorario: Salida a las 20:30 h.\, llegada a las 24:00 horas.  \nImágenes: Jesús con la Cruz a cuestas (José Quixal\, 1907) y La Virgen de las Angustias (Escuela de Juan de Juni\, s. XVI) \nRecorrido: Colegio Maristas (C/ San Marcelino Champagnat)\, Camino de la Piedad\, Paseo Ezequiel González\, Puente de Sancti Spíritu\, San Valentín\, Plaza del Socorro\, Ronda de Don Juan II\, Plaza Juan Guas\, Daoiz\, Plaza de la Merced\, Marqués del Arco\, Plaza Mayor\, Iglesia de San Miguel (Cristo con la Cruz a Cuestas) y S.I. Catedral (Virgen de las Angustias). \nAcompañamiento: Pasos cargados a hombros y a banzos\, banda Titular de la Cofradía.
URL:https://www.semanasantasegovia.com/event/procesion-acompanando-a-los-pasos-jesus-con-la-cruz-a-cuestas-y-la-virgen-de-las-angustias/
CATEGORIES:Via Crucis y Procesiones
END:VEVENT
END:VCALENDAR