BEGIN:VCALENDAR
VERSION:2.0
PRODID:-//Semana Santa Segovia - ECPv6.3.5//NONSGML v1.0//EN
CALSCALE:GREGORIAN
METHOD:PUBLISH
X-ORIGINAL-URL:https://www.semanasantasegovia.com
X-WR-CALDESC:Eventos para Semana Santa Segovia
REFRESH-INTERVAL;VALUE=DURATION:PT1H
X-Robots-Tag:noindex
X-PUBLISHED-TTL:PT1H
BEGIN:VTIMEZONE
TZID:Europe/Madrid
BEGIN:DAYLIGHT
TZOFFSETFROM:+0100
TZOFFSETTO:+0200
TZNAME:CEST
DTSTART:20250330T010000
END:DAYLIGHT
BEGIN:STANDARD
TZOFFSETFROM:+0200
TZOFFSETTO:+0100
TZNAME:CET
DTSTART:20251026T010000
END:STANDARD
END:VTIMEZONE
BEGIN:VEVENT
DTSTART;VALUE=DATE:20250418
DTEND;VALUE=DATE:20250419
DTSTAMP:20260425T192929
CREATED:20240224T122341Z
LAST-MODIFIED:20250401T102742Z
UID:4126-1744934400-1745020799@www.semanasantasegovia.com
SUMMARY:VIERNES SANTO
DESCRIPTION:
URL:https://www.semanasantasegovia.com/event/viernes-santo/
CATEGORIES:actos culturales,actos litúrgicos,Via Crucis y Procesiones
ATTACH;FMTTYPE=image/png:https://www.semanasantasegovia.com/wp-content/uploads/2021/03/unnamed.png
END:VEVENT
BEGIN:VEVENT
DTSTART;TZID=Europe/Madrid:20250418T104500
DTEND;TZID=Europe/Madrid:20250418T134500
DTSTAMP:20260425T192929
CREATED:20240319T113847Z
LAST-MODIFIED:20250401T102151Z
UID:4325-1744973100-1744983900@www.semanasantasegovia.com
SUMMARY:Vía Crucis Penitencial por la Cofradía del Santo Cristo de San Marcos
DESCRIPTION: A las 10:45 h. Vía Crucis Penitencial por la Cofradía del Santo Cristo de San Marcos\, acompañando la Imagen desde la Parroquia por la Cuesta de los Hoyos (en la procesión se rezará el Vía Crucis Penitencial)\, hasta el puente de Sancti Spíritu\, donde dará comienzo la Procesión del Santo Cristo de San Marcos\, incorporándose a la carrera oficial\, hasta su llegada a la S.I. Catedral a las 13:45 h.  Acompañada por las dulzainas\, tambores y carraca de la Cofradía.
URL:https://www.semanasantasegovia.com/event/via-crucis-penitencial-por-la-cofradia-del-santo-cristo-de-san-marcos/
CATEGORIES:Via Crucis y Procesiones
END:VEVENT
BEGIN:VEVENT
DTSTART;TZID=Europe/Madrid:20250418T110000
DTEND;TZID=Europe/Madrid:20250418T130000
DTSTAMP:20260425T192929
CREATED:20240319T113944Z
LAST-MODIFIED:20250401T102312Z
UID:4327-1744974000-1744981200@www.semanasantasegovia.com
SUMMARY:Vía Crucis Penitencial\, Parroquia de San Millán
DESCRIPTION: Vía Crucis Penitencial\, organizado por la Parroquia de San Millán y la Cofradía de Ntra. Sra. de la Soledad al pie de la Cruz y  el Santísimo Cristo en su Última Palabra\, desde la iglesia parroquial hasta los Altos de la Piedad\, a las 11:00 h\, acompañando a la imagen de Jesús Nazareno que se venera en la Iglesia de San Clemente.
URL:https://www.semanasantasegovia.com/event/via-crucis-penitencial-parroquia-de-san-millan/
CATEGORIES:Via Crucis y Procesiones
END:VEVENT
BEGIN:VEVENT
DTSTART;TZID=Europe/Madrid:20250418T113000
DTEND;TZID=Europe/Madrid:20250418T124500
DTSTAMP:20260425T192929
CREATED:20240319T114029Z
LAST-MODIFIED:20250401T102446Z
UID:4329-1744975800-1744980300@www.semanasantasegovia.com
SUMMARY:Procesión del Santo Cristo de los Gascones
DESCRIPTION: Procesión del Santo Cristo de los Gascones\,\n\nA las 11:30 h. Procesión del Santo Cristo de los Gascones\, desde la iglesia parroquial de San Justo\, para incorporarse a la carrera oficial\, hasta la S.I. Catedral\, llegando a las 12:45 h.\, acompañado por la Real Cofradía de la Santa y Venerable Esclavitud y Santo Entierro del Cristo de los Gascones\, banda de cornetas y tambores titular\, Ilustre Colegio de Abogados de Segovia y Feligresía de la parroquia de El Salvador.
URL:https://www.semanasantasegovia.com/event/procesion-del-santo-cristo-de-los-gascones/
CATEGORIES:Via Crucis y Procesiones
END:VEVENT
BEGIN:VEVENT
DTSTART;TZID=Europe/Madrid:20250418T143000
DTEND;TZID=Europe/Madrid:20250418T150000
DTSTAMP:20260425T192929
CREATED:20250401T102655Z
LAST-MODIFIED:20250401T102655Z
UID:4742-1744986600-1744988400@www.semanasantasegovia.com
SUMMARY:Traslado de Nuestro Señor Jesús con la Cruz a Cuestas
DESCRIPTION: Traslado de Nuestro Señor Jesús con la Cruz a Cuestas a las 14:30 h. desde la Iglesia de San Miguel hasta la la S.I Catedral acompañado por la banda de dulzainas y tambores de la Cofradía Penitencial de Nuestro Señor Jesús con la Cruz a Cuestas y María Santísima de las Angustias de las Asociación de Exalumnos Maristas (A.D.E.M.A.R.)
URL:https://www.semanasantasegovia.com/event/traslado-de-nuestro-senor-jesus-con-la-cruz-a-cuestas/
CATEGORIES:Via Crucis y Procesiones
END:VEVENT
BEGIN:VEVENT
DTSTART;TZID=Europe/Madrid:20250418T183000
DTEND;TZID=Europe/Madrid:20250418T223000
DTSTAMP:20260425T192929
CREATED:20240319T114211Z
LAST-MODIFIED:20250401T104044Z
UID:4331-1745001000-1745015400@www.semanasantasegovia.com
SUMMARY:PROCESIÓN DE LOS PASOS
DESCRIPTION:PROCESIÓN DE LOS PASOS\nDesfile de Bandas de Cornetas y Tambores. A las 18:30 h.\, concentración de bandas en la Plaza del Azoguejo\, para subir escalonadamente por Cervantes\, Juan Bravo\, Plaza de Medina del Campo\, Isabel la Católica y Plaza Mayor\, hasta la S.I. Catedral.\n\n  \n\nA las 20:00 h.\, comienzo de la PROCESIÓN OFICIAL\, saliendo de la S.I. Catedral y recorriendo las calles de Plaza Mayor\, Cronista Lecea\, Plaza de la Rubia\, Serafín\, San Facundo\, San Agustín\, San Juan para finalizar en la Plaza de la Artillería\, junto al Acueducto con el siguiente orden: \n\n– Estandarte y grupo a caballo de la Junta de Cofradías. \n– Guion de la Santa Iglesia Catedral. \n– LA ORACIÓN EN EL HUERTO. \n– LA FLAGELACIÓN DEL SEÑOR. \n– NUESTRO SEÑOR JESÚS CON LA CRUZ A CUESTAS. \n– MARÍA SANTÍSIMA DE LAS ANGUSTIAS. \n– SANTO CRISTO DE LA CRUZ. \n– SANTO CRISTO DE SAN MARCOS. \n– SANTO CRISTO EN SU ULTIMA PALABRA. \n– SOLEDAD AL PIE DE LA CRUZ. \n– EL CALVARIO. \n– MARÍA MAGDALENA JUNTO A JESÚS EN LA CRUZ. \n– LA PIEDAD. \n– SANTO CRISTO DE LOS GASCONES. \n– CAMINO DEL SEPULCRO. \n– LA SOLEDAD DOLOROSA. \nPresidirán el cortejo el Cabildo Catedralicio y la Junta de Cofradías\, acompañando las autoridades civiles y militares. \nCerrará la procesión la Banda de Música de la A.C. Unión Musical Segoviana.
URL:https://www.semanasantasegovia.com/event/procesion-de-los-pasos/
CATEGORIES:destacado,Via Crucis y Procesiones
ATTACH;FMTTYPE=image/jpeg:https://www.semanasantasegovia.com/wp-content/uploads/2025/02/2025-Al_viento_cartel-SemanaSantaSegovia-2025.jpeg
END:VEVENT
BEGIN:VEVENT
DTSTART;TZID=Europe/Madrid:20250418T230000
DTEND;TZID=Europe/Madrid:20250419T010000
DTSTAMP:20260425T192929
CREATED:20240319T114548Z
LAST-MODIFIED:20250401T104127Z
UID:4333-1745017200-1745024400@www.semanasantasegovia.com
SUMMARY:Procesión del Santo Entierro
DESCRIPTION:Procesión del Santo Entierro\, a las 23:00 h.\, desde Zamarramala hasta la Iglesia de la Vera Cruz.
URL:https://www.semanasantasegovia.com/event/procesion-del-santo-entierro/
CATEGORIES:Via Crucis y Procesiones
END:VEVENT
END:VCALENDAR